BEGIN:VCALENDAR
VERSION:2.0
PRODID:-//THE HEALING HOUSE - ECPv6.15.20//NONSGML v1.0//EN
CALSCALE:GREGORIAN
METHOD:PUBLISH
X-ORIGINAL-URL:https://thehealinghouse.com.ph
X-WR-CALDESC:Events for THE HEALING HOUSE
REFRESH-INTERVAL;VALUE=DURATION:PT1H
X-Robots-Tag:noindex
X-PUBLISHED-TTL:PT1H
BEGIN:VTIMEZONE
TZID:UTC
BEGIN:STANDARD
TZOFFSETFROM:+0000
TZOFFSETTO:+0000
TZNAME:UTC
DTSTART:20240101T000000
END:STANDARD
END:VTIMEZONE
BEGIN:VEVENT
DTSTART;TZID=UTC:20250913T103000
DTEND;TZID=UTC:20250913T233000
DTSTAMP:20260423T035821
CREATED:20250920T150242Z
LAST-MODIFIED:20250929T000609Z
UID:49210-1757759400-1757806200@thehealinghouse.com.ph
SUMMARY:Sound and Spirit
DESCRIPTION:Sound and Spirit\nAllow yourself to be held in a sanctuary of sound and energy. In this group session\, receive the gentle vibrations of crystal and Tibetan singing bowls played by Bambie Carlos-Racelis\, while Gendai Reiki Master Ana de Borja-Araneta channels Reiki to heal and restore each participant. This month\, we honor our roots and heal our path. Through sound and Reiki\, we soften what weighs heavy and create space for peace\, clarity\, and renewal. Join us on Saturday\, September 13\, 2025\, at 10:30-11:30am and step into a morning of calm\, connection\, and inner healing. \nSaturday\, Sept 13\, 2025\n10:30-11:30am \n\n\nPrice: 1\,500.00\n\n\n  \n     
URL:https://thehealinghouse.com.ph/event/sound-and-spirit-2/
LOCATION:The Healing House @ Palma
CATEGORIES:2025 Event
ATTACH;FMTTYPE=image/jpeg:https://thehealinghouse.com.ph/wp-content/uploads/2025/09/545881977_1430197441619248_8440717165647698205_n.jpg
END:VEVENT
BEGIN:VEVENT
DTSTART;TZID=UTC:20250728T133000
DTEND;TZID=UTC:20250728T153000
DTSTAMP:20260423T035821
CREATED:20250629T122637Z
LAST-MODIFIED:20250629T122637Z
UID:49155-1753709400-1753716600@thehealinghouse.com.ph
SUMMARY:Community Healing Saturdays
DESCRIPTION:Community Healing Saturdays\nCome to heal and be healed! \n\n\n\n\nSaturday\, July 28\, 2025\n1:30pm-3:30pm\n\n\n\n\nPrice: P500 \n  \n     
URL:https://thehealinghouse.com.ph/event/community-healing-saturdays-july28/
LOCATION:The Healing House @ Palma
CATEGORIES:2025 Event
ATTACH;FMTTYPE=image/jpeg:https://thehealinghouse.com.ph/wp-content/uploads/2025/06/506747772_1572442494141462_6576101378961986543_n.jpg
END:VEVENT
BEGIN:VEVENT
DTSTART;TZID=UTC:20250705T130000
DTEND;TZID=UTC:20250705T170000
DTSTAMP:20260423T035821
CREATED:20250629T124035Z
LAST-MODIFIED:20250629T124303Z
UID:49161-1751720400-1751734800@thehealinghouse.com.ph
SUMMARY:Gendai Reiki Oneness
DESCRIPTION:Gendai Reiki Oneness\nShare Day\nExperience an individual Reiki session in a group setting. \nSaturday\, July 5\, half-hour session starting 1:00 pm \n– \n\n\nPrice: P750 per person\n\n\n  \n     
URL:https://thehealinghouse.com.ph/event/gendai-reiki-oneness/
LOCATION:The Healing House @ Palma
CATEGORIES:2025 Event
ATTACH;FMTTYPE=image/jpeg:https://thehealinghouse.com.ph/wp-content/uploads/2025/06/509997935_774029471716574_8329777003677713981_n.jpg
END:VEVENT
BEGIN:VEVENT
DTSTART;TZID=UTC:20250524T093000
DTEND;TZID=UTC:20250524T123000
DTSTAMP:20260423T035821
CREATED:20250504T144437Z
LAST-MODIFIED:20250504T144437Z
UID:49123-1748079000-1748089800@thehealinghouse.com.ph
SUMMARY:Cynthia  Syueco - A Dolphin Review Class
DESCRIPTION:Cynthia Syueco – A Dolphin Review Class\nSaturday\, May 24\, 2025\n9:30am-12:30pm \nPrice: P2\,000 \n  \n     
URL:https://thehealinghouse.com.ph/event/cynthia-syueco-a-dolphin-review-class/
LOCATION:The Healing House @ Palma
CATEGORIES:2025 Event
ATTACH;FMTTYPE=image/jpeg:https://thehealinghouse.com.ph/wp-content/uploads/2025/05/494688921_1252582206309946_7189789767704662119_n.jpg
END:VEVENT
BEGIN:VEVENT
DTSTART;TZID=UTC:20250517T100000
DTEND;TZID=UTC:20250517T170000
DTSTAMP:20260423T035821
CREATED:20250504T145154Z
LAST-MODIFIED:20250504T145154Z
UID:49129-1747476000-1747501200@thehealinghouse.com.ph
SUMMARY:Bunny Caminade
DESCRIPTION:Bunny Caminade\nWhat are your Super Powers?\nMarch 17\, 2025\n10;00am-5:00pm \n\n\nPrice: P5\,500 \nPendulum included\n\n\n\n  \n     
URL:https://thehealinghouse.com.ph/event/bunny-caminade-2/
LOCATION:The Healing House @ Palma
CATEGORIES:2025 Event
ATTACH;FMTTYPE=image/jpeg:https://thehealinghouse.com.ph/wp-content/uploads/2025/05/494690230_1215990146787730_7495228098286941591_n.jpg
END:VEVENT
BEGIN:VEVENT
DTSTART;TZID=UTC:20250510T133000
DTEND;TZID=UTC:20250510T153000
DTSTAMP:20260423T035821
CREATED:20250504T144745Z
LAST-MODIFIED:20250504T144745Z
UID:49126-1746883800-1746891000@thehealinghouse.com.ph
SUMMARY:Community Healing Saturdays
DESCRIPTION:Community Healing Saturdays\nCome to heal and be healed! \n\n\n\n\nSaturday\, May 10\, 2025\n1:30pm-3:30pm\n\n\n\n\nPrice: P500 \n  \n     
URL:https://thehealinghouse.com.ph/event/community-healing-saturdays-3/
LOCATION:The Healing House @ Palma
CATEGORIES:2025 Event
ATTACH;FMTTYPE=image/jpeg:https://thehealinghouse.com.ph/wp-content/uploads/2025/05/495074085_667259169402726_2442220304977814459_n.jpg
END:VEVENT
BEGIN:VEVENT
DTSTART;TZID=UTC:20250329T133000
DTEND;TZID=UTC:20250329T153000
DTSTAMP:20260423T035821
CREATED:20250312T014419Z
LAST-MODIFIED:20250312T014737Z
UID:49098-1743255000-1743262200@thehealinghouse.com.ph
SUMMARY:Community Healing Saturdays
DESCRIPTION:Community Healing Saturdays\nCome to heal and be healed! \nMarch 29\, 2005 \nPrice: P500 \n  \n     
URL:https://thehealinghouse.com.ph/event/community-healing-saturdays-2/
LOCATION:The Healing House @ Palma
CATEGORIES:2025 Event
ATTACH;FMTTYPE=image/jpeg:https://thehealinghouse.com.ph/wp-content/uploads/2025/03/481841484_524648270240153_8670522283753674862_n.jpg
END:VEVENT
BEGIN:VEVENT
DTSTART;TZID=UTC:20250318T100000
DTEND;TZID=UTC:20250318T110000
DTSTAMP:20260423T035821
CREATED:20250312T012153Z
LAST-MODIFIED:20250312T013937Z
UID:49093-1742292000-1742295600@thehealinghouse.com.ph
SUMMARY:Bunny Caminade
DESCRIPTION:Bunny Caminade\nThe Great Re-Set:\nYour 2025 Birth Chart Reading\nAnalysis of birth chart and 2025 reading patterns \nMarch 18\, 22\, 25\, 29\, 2025\n1.5 Hours/session \n\n\nPrice: P7\,500\n\n\n  \n     
URL:https://thehealinghouse.com.ph/event/bunny-caminade/
LOCATION:The Healing House @ Palma
CATEGORIES:2025 Event
ATTACH;FMTTYPE=image/jpeg:https://thehealinghouse.com.ph/wp-content/uploads/2025/03/476773193_629599013141938_3142793180756354977_n.jpg
END:VEVENT
BEGIN:VEVENT
DTSTART;TZID=UTC:20250202T090000
DTEND;TZID=UTC:20250202T150000
DTSTAMP:20260423T035821
CREATED:20250107T075141Z
LAST-MODIFIED:20250107T085102Z
UID:49037-1738486800-1738508400@thehealinghouse.com.ph
SUMMARY:MILLENIUM METHOD - Biotoxins
DESCRIPTION:MILLENIUM METHOD – Biotoxin\nwith Jessica Taylor \nOver 20 years of research have determined that many chronic ailments are due to biotoxin issues. These include cancers and rare diseases or conditions with unknown causes. This deck is designed to treat biotoxin diseases\, remove biofilm and ensure the body is working properly. It is the only modality currently researching and developing ways to self-treat this rapidly growing issue. Between GMO products\, chemicals sprayed in the air\, superbugs\, to name just a few – we all need a way to rid ourselves of the damage to our bodies and brains. \nSunday\, February 2\n9:00am-3:00pm \n– \n\n\nPrice: 20\,500\n\n\n  \n     
URL:https://thehealinghouse.com.ph/event/millenium-method-biotoxins/
LOCATION:The Healing House @ Palma
CATEGORIES:2025 Event
ATTACH;FMTTYPE=image/jpeg:https://thehealinghouse.com.ph/wp-content/uploads/2025/01/462584622_2420275081651130_4581474812558736663_n.jpg
END:VEVENT
BEGIN:VEVENT
DTSTART;TZID=UTC:20250201T093000
DTEND;TZID=UTC:20250201T110000
DTSTAMP:20260423T035821
CREATED:20250107T074741Z
LAST-MODIFIED:20250107T085002Z
UID:49028-1738402200-1738407600@thehealinghouse.com.ph
SUMMARY:Chinese New Year Forecast 2025 Year of the Wood Snake Themes & Trends + Zodiac Signs
DESCRIPTION:Chinese New Year Forecast 2025 Year of the Wood Snake Themes & Trends + Zodiac Signs\nwith Melvin D. Sua \nThe best way to begin the new Lunar Year is to know what it has in store for us. Learn how to snake through the coming year’s hills & valleys\, scale peaks & avoid pitfalls as Master Geomancer Melvin Sua discusses the General Themes & Trends + Zodiac Animal Forecast for 2025\, the Year of the Wood Snake. The talk is a collective guide for people who want a sneak preview of 2025\, enabling them to maneuver around good and bad developments accordingly \nSaturday\, February 1\n9:30am-11:00am\nIn person and Zoom \n– \n\n\nPrice: 1500\n\n\n  \n     
URL:https://thehealinghouse.com.ph/event/chinese-new-year-forecast-2025-year-of-the-wood-snake/
LOCATION:The Healing House @ Palma
CATEGORIES:2025 Event
ATTACH;FMTTYPE=image/jpeg:https://thehealinghouse.com.ph/wp-content/uploads/2025/01/467732395_950669106556659_8485257146123578162_n.jpg
END:VEVENT
BEGIN:VEVENT
DTSTART;TZID=UTC:20250130T090000
DTEND;TZID=UTC:20250130T150000
DTSTAMP:20260423T035821
CREATED:20250107T090113Z
LAST-MODIFIED:20250107T090113Z
UID:49050-1738227600-1738249200@thehealinghouse.com.ph
SUMMARY:Olivia Veloso - Manila 2025
DESCRIPTION:Olivia Veloso – Manila 2025\nBook a reading or Reiki private session with Master and Teacher Olivia Veloso. Sign up for her classes and learn how Reiki can help yourself and others. \nMessage Ana 0917 844 4743 \nJanuary\n30: Private sessions \nFebruary\n1: Book launch\n6: Private sessions\n8: Reiki 3\n11: Private sessions\n13: Private sessions\n15: Reiki 1\n18: Private sessions\n20: Private sessions\n22: Masters\n27: Private sessions \nMarch\n1: Reiki 2\n2: Advanced masters \n– \n\n\nPrice: 20\,500\n\n\n  \n     
URL:https://thehealinghouse.com.ph/event/olivia-veloso-manila-2025/
LOCATION:The Healing House @ Palma
CATEGORIES:2025 Event
ATTACH;FMTTYPE=image/jpeg:https://thehealinghouse.com.ph/wp-content/uploads/2025/01/Latest_472626926_1171056801053219_5317832621243289865_n.jpg
END:VEVENT
BEGIN:VEVENT
DTSTART;TZID=UTC:20250118T090000
DTEND;TZID=UTC:20250118T150000
DTSTAMP:20260423T035821
CREATED:20250107T073133Z
LAST-MODIFIED:20250107T084905Z
UID:49025-1737190800-1737212400@thehealinghouse.com.ph
SUMMARY:MILLENIUM METHOD - Relationship and Money
DESCRIPTION:MILLENIUM METHOD – Relationship and Money\nwith Jessica Taylor \nAll things in life are relationships – to ourselves\, to each other\, to situations\, to things. When weaknesses occur or are brought into any relationship\, they will cause a breakdown. With the fractals\, we can remove blocks and weaknesses and create synchronicity and congruency in relationships. This class teaches proper and effective manifesting\, removing blocks to money\, business and prosperity. \n  \nSaturday\, January 18\n9:00am-3:00pm \n– \n\n\nPrice: 20\,500\n\n\n  \n     
URL:https://thehealinghouse.com.ph/event/millenium-method-relationship-and-money/
LOCATION:The Healing House @ Palma
CATEGORIES:2025 Event
ATTACH;FMTTYPE=image/jpeg:https://thehealinghouse.com.ph/wp-content/uploads/2025/01/472420300_1175697984081359_3474523959786000348_n.jpg
END:VEVENT
BEGIN:VEVENT
DTSTART;TZID=UTC:20250111T100000
DTEND;TZID=UTC:20250111T113000
DTSTAMP:20260423T035821
CREATED:20250107T072337Z
LAST-MODIFIED:20250107T084934Z
UID:49022-1736589600-1736595000@thehealinghouse.com.ph
SUMMARY:2025\, A Genesis Year
DESCRIPTION:2025\, A Genesis Year\nwith Jeannie Javelosa \nWe are pleased to welcome back our resident Astrologer\, Jeannie Javelosa. Last year\, an understanding of astrological trends for 2024 gave us personal focus as the world continued to go through rapid transformational changes. This year\, join her annual talk on astrological trends\, with the exclamation point for 2025\, to understand the powerful shifts of the planets and their profound influences during this crucial year of 2025 that marks a new era for humanity. \n  \nSaturday\, January 11\n10:00am-11:30am \n– \n\n\nPrice: 1\,500\n\n\n  \n     
URL:https://thehealinghouse.com.ph/event/2025-a-genesis-year/
LOCATION:The Healing House @ Palma
CATEGORIES:2025 Event
ATTACH;FMTTYPE=image/jpeg:https://thehealinghouse.com.ph/wp-content/uploads/2025/01/462588647_906879091434879_1023539632846860662_n.jpg
END:VEVENT
BEGIN:VEVENT
DTSTART;TZID=UTC:20250108T090000
DTEND;TZID=UTC:20250108T160000
DTSTAMP:20260423T035821
CREATED:20250107T071817Z
LAST-MODIFIED:20250107T071817Z
UID:49019-1736326800-1736352000@thehealinghouse.com.ph
SUMMARY:Gendai Reiki Level 2
DESCRIPTION:Gendai Reiki Level 2\nwith masters from Gendai Reiki Oneness Philippines\nAna de Borja Araneta and Kara Tolentino Prieto \nWhen you don’t feel like talking\, but need a release… When you want to help\, but don’t know how… When you are searching\, but coming up empty… \nReiki means “universal energy” and is a Japanese energy healing method to promote overall well-being and relaxation. Try this entry-level class. Change the way you see your world. \nWednesday\, January 8\n9:00am-4:00pm \nin person at the Healing House\nMakati \n– \n\n\nPrice: 17\,000\n\n\n  \n     
URL:https://thehealinghouse.com.ph/event/gendai-reiki-level-2/
LOCATION:The Healing House @ Palma
CATEGORIES:2025 Event
ATTACH;FMTTYPE=image/jpeg:https://thehealinghouse.com.ph/wp-content/uploads/2025/01/462583115_2001859426958761_8860029709252827148_n.jpg
END:VEVENT
END:VCALENDAR