BEGIN:VCALENDAR
VERSION:2.0
PRODID:-//THE HEALING HOUSE - ECPv6.15.20//NONSGML v1.0//EN
CALSCALE:GREGORIAN
METHOD:PUBLISH
X-ORIGINAL-URL:https://thehealinghouse.com.ph
X-WR-CALDESC:Events for THE HEALING HOUSE
REFRESH-INTERVAL;VALUE=DURATION:PT1H
X-Robots-Tag:noindex
X-PUBLISHED-TTL:PT1H
BEGIN:VTIMEZONE
TZID:UTC
BEGIN:STANDARD
TZOFFSETFROM:+0000
TZOFFSETTO:+0000
TZNAME:UTC
DTSTART:20240101T000000
END:STANDARD
END:VTIMEZONE
BEGIN:VEVENT
DTSTART;TZID=UTC:20251011T100000
DTEND;TZID=UTC:20251011T150000
DTSTAMP:20260423T121748
CREATED:20251009T104308Z
LAST-MODIFIED:20251011T141053Z
UID:49247-1760176800-1760194800@thehealinghouse.com.ph
SUMMARY:GENDAI REIKI LEVEL 1 CLASS
DESCRIPTION:Awaken your natural ability to heal!\nReiki is a Japanese energy healing practice that helps restore balance\, reduce stress\, and support overall well-being. Gendai Reiki is a modern yet authentic approach that combines traditional Reiki teachings with practices for daily life—making it simple\, gentle\, and powerful for anyone to use. \nOn Saturday\, October 11\, 2025 | 10 AM – 3 PM\, we invite you to join our Gendai Reiki Level 1 class. This is the first step in your Reiki journey\, where you will: \n Learn the history and essence of Reiki\n Receive your first attunement to Reiki energy\n Discover techniques to heal yourself and support loved ones\n Experience the calm and clarity that Reiki brings \nNo prior experience is needed—only an open mind and heart. Whether you are seeking personal healing\, emotional peace\, or a way to deepen your spiritual path\, this class offers a nurturing beginning. \nPrice: P17\,500.00 \n  \n     
URL:https://thehealinghouse.com.ph/event/gendai-reiki-level-1-class/
LOCATION:The Healing House @ Palma
CATEGORIES:2025 Event
ATTACH;FMTTYPE=image/jpeg:https://thehealinghouse.com.ph/wp-content/uploads/2025/10/553217333_24633781576292124_4016329756652260562_n.jpg
END:VEVENT
BEGIN:VEVENT
DTSTART;TZID=UTC:20251011T130000
DTEND;TZID=UTC:20251011T150000
DTSTAMP:20260423T121748
CREATED:20251009T104836Z
LAST-MODIFIED:20251011T141723Z
UID:49252-1760187600-1760194800@thehealinghouse.com.ph
SUMMARY:Healing Starts Here!
DESCRIPTION:Healing Starts Here\nAs we celebrate six years at Palma\, we open our doors once more to the heart of who we are — community. \nJoin us on Saturday\, October 11\, 1–3 PM for Community Healing\, featuring Pranic Healing\, Reiki\, and Millennium Method sessions offered by our practitioners. \nMay every session remind us how far we’ve come\, and how healing grows stronger when shared. \nSend us a DM or message Sonia at 0966-2057303 to book your slot! \n#TheHealingHousePH #ThreadsOfHealing #CommunityHealing #SixYearsOfStories \n  \n 
URL:https://thehealinghouse.com.ph/event/healing-starts-here/
LOCATION:The Healing House @ Palma
CATEGORIES:2025 Event
ATTACH;FMTTYPE=image/jpeg:https://thehealinghouse.com.ph/wp-content/uploads/2025/10/553562812_1395850758915359_5957171480706995040_n.jpg
END:VEVENT
BEGIN:VEVENT
DTSTART;TZID=UTC:20251011T150000
DTEND;TZID=UTC:20251011T183000
DTSTAMP:20260423T121748
CREATED:20251009T104441Z
LAST-MODIFIED:20251011T141400Z
UID:49250-1760194800-1760207400@thehealinghouse.com.ph
SUMMARY:Why We Are Who We Are
DESCRIPTION:Why We Are Who We Are\nA journey through family\, inner child\, and ancestral roots.\nOn October 11\, 3:00–6:30 PM at The Healing House\, three powerful sessions will guide you to understand\, heal\, and release: \n Family dynamics in the Philippine setting with Malou Perez\n Healing the inner child with Edna Chua\n Ancestral and epigenetics clearing with Ana Reyes \nThis is a rare opportunity to explore how our roots shape us\, and how we can transform them into strength. \nPrice: P1\,800.00 \n  \n     
URL:https://thehealinghouse.com.ph/event/why-we-are-who-we-are-2/
LOCATION:The Healing House @ Palma
CATEGORIES:2025 Event
ATTACH;FMTTYPE=image/jpeg:https://thehealinghouse.com.ph/wp-content/uploads/2025/10/553717581_1519028315914652_244123954379271916_n.jpg
END:VEVENT
BEGIN:VEVENT
DTSTART;TZID=UTC:20251019T090000
DTEND;TZID=UTC:20251019T150000
DTSTAMP:20260423T121748
CREATED:20251009T105142Z
LAST-MODIFIED:20251011T141811Z
UID:49257-1760864400-1760886000@thehealinghouse.com.ph
SUMMARY:Your Business is More than Numbers
DESCRIPTION:Your Business is More than Numbers\nYour business is more than numbers\, and it carries energy\, patterns\, and possibilities waiting to be revealed\, no matter the size and scale of your operation! \nJoin us for the Millennium Method Business deck class and discover how to: \n Remove weaknesses and karma to optimize yourself\, your business\, your employees\, and your clients.\n Clear future issues for optimal success.\n Create the most conducive work environment.\n Sunday\, October 19\, 2025  9:00AM – 3:00PM \nLunch and light snacks included. To sign up\, send us a DM or message Sonia at 0966-2057303. \n#TheHealingHousePH #MillenniumMethod #BusinessEnergy #HolisticSuccess \nPrice: P20\,500.00 \n  \n     
URL:https://thehealinghouse.com.ph/event/your-business-is-more-than-numbers/
LOCATION:The Healing House @ Palma
CATEGORIES:2025 Event
ATTACH;FMTTYPE=image/jpeg:https://thehealinghouse.com.ph/wp-content/uploads/2025/10/556849274_1364789978719464_7280674600393184160_n.jpg
END:VEVENT
END:VCALENDAR