BEGIN:VCALENDAR
VERSION:2.0
PRODID:-//THE HEALING HOUSE - ECPv6.15.20//NONSGML v1.0//EN
CALSCALE:GREGORIAN
METHOD:PUBLISH
X-WR-CALNAME:THE HEALING HOUSE
X-ORIGINAL-URL:https://thehealinghouse.com.ph
X-WR-CALDESC:Events for THE HEALING HOUSE
REFRESH-INTERVAL;VALUE=DURATION:PT1H
X-Robots-Tag:noindex
X-PUBLISHED-TTL:PT1H
BEGIN:VTIMEZONE
TZID:UTC
BEGIN:STANDARD
TZOFFSETFROM:+0000
TZOFFSETTO:+0000
TZNAME:UTC
DTSTART:20240101T000000
END:STANDARD
END:VTIMEZONE
BEGIN:VEVENT
DTSTART;TZID=UTC:20250913T103000
DTEND;TZID=UTC:20250913T233000
DTSTAMP:20260423T135441
CREATED:20250920T150242Z
LAST-MODIFIED:20250929T000609Z
UID:49210-1757759400-1757806200@thehealinghouse.com.ph
SUMMARY:Sound and Spirit
DESCRIPTION:Sound and Spirit\nAllow yourself to be held in a sanctuary of sound and energy. In this group session\, receive the gentle vibrations of crystal and Tibetan singing bowls played by Bambie Carlos-Racelis\, while Gendai Reiki Master Ana de Borja-Araneta channels Reiki to heal and restore each participant. This month\, we honor our roots and heal our path. Through sound and Reiki\, we soften what weighs heavy and create space for peace\, clarity\, and renewal. Join us on Saturday\, September 13\, 2025\, at 10:30-11:30am and step into a morning of calm\, connection\, and inner healing. \nSaturday\, Sept 13\, 2025\n10:30-11:30am \n\n\nPrice: 1\,500.00\n\n\n  \n     
URL:https://thehealinghouse.com.ph/event/sound-and-spirit-2/
LOCATION:The Healing House @ Palma
CATEGORIES:2025 Event
ATTACH;FMTTYPE=image/jpeg:https://thehealinghouse.com.ph/wp-content/uploads/2025/09/545881977_1430197441619248_8440717165647698205_n.jpg
END:VEVENT
BEGIN:VEVENT
DTSTART;TZID=UTC:20250914T090000
DTEND;TZID=UTC:20250914T160000
DTSTAMP:20260423T135441
CREATED:20250920T150012Z
LAST-MODIFIED:20250929T000548Z
UID:49207-1757840400-1757865600@thehealinghouse.com.ph
SUMMARY:Millennium Method Anti-Aging
DESCRIPTION:Millennium Method Anti-Aging\nStay younger\, look younger\, feel younger — both physically and energetically — using this powerful tool! Imagine aging with grace and vitality\, not just years. This deck is your guide to nurturing every aspect of your well-being: protecting your senses\, balancing your hormones\, maintaining flexible movement\, and cultivating a resilient mindset for a longer\, fuller life. Conducted by Jessica Taylor\, she will teach you how to use this deck to stay younger\, feel younger\, look younger! \n\n\n\n\nSunday\, September 14\, 2025\n9am-4pm\n\n\n\n\nPrice: P20\,500.00 \n  \n     
URL:https://thehealinghouse.com.ph/event/millennium-method-anti-aging/
LOCATION:The Healing House @ Palma
CATEGORIES:2025 Event
ATTACH;FMTTYPE=image/jpeg:https://thehealinghouse.com.ph/wp-content/uploads/2025/09/548053762_1419069045855833_4412740877629380348_n.jpg
END:VEVENT
BEGIN:VEVENT
DTSTART;TZID=UTC:20250917T190000
DTEND;TZID=UTC:20250917T200000
DTSTAMP:20260423T135441
CREATED:20250920T150549Z
LAST-MODIFIED:20250929T000523Z
UID:49213-1758135600-1758139200@thehealinghouse.com.ph
SUMMARY:Peace within Chaos
DESCRIPTION:Peace within Chaos\nPeace within Chaos: Quick Tools for Stressful Moments Family dynamics and ancestral patterns can sometimes stir up old stress and anxiety. But we don’t have to stay stuck in those reactions because there are simple\, gentle practices that can help us return to calm. Join us for a special FB/IG Live with Healing House practitioner Cynthia Syjueco as she shares practical tips for easing stress and anxiety\, including a guided tapping practice you can try on the spot. \n Wednesday\, September 17\, 2025\n 7:00-8:00 PM\n Facebook & Instagram Live @The Healing House at Palma\n Join us for free!\n Get to win Elixir sprays in the raffle during the Live! \nCynthia will also introduce her healing modalities\, namely EmRes\, BodyTalk\, and Dolphin Needle-less Acupuncture\, and how they can support deeper release of inherited patterns. \nCome as you are. Leave with a calmer heart\, ready to face even the most challenging moments with peace. See you at the Live! \nPrice: FREE \n  \n     
URL:https://thehealinghouse.com.ph/event/peace-within-chaos/
LOCATION:The Healing House @ Palma
CATEGORIES:2025 Event
ATTACH;FMTTYPE=image/jpeg:https://thehealinghouse.com.ph/wp-content/uploads/2025/09/547011985_1142205914722881_8452075752842560992_n.jpg
END:VEVENT
BEGIN:VEVENT
DTSTART;TZID=UTC:20250927T100000
DTEND;TZID=UTC:20250927T150000
DTSTAMP:20260423T135441
CREATED:20250920T151107Z
LAST-MODIFIED:20250929T000500Z
UID:49219-1758967200-1758985200@thehealinghouse.com.ph
SUMMARY:Awaken your natural ability to heal!
DESCRIPTION:Awaken your natural ability to heal!\nReiki is a Japanese energy healing practice that helps restore balance\, reduce stress\, and support overall well-being. Gendai Reiki is a modern yet authentic approach that combines traditional Reiki teachings with practices for daily life—making it simple\, gentle\, and powerful for anyone to use. On Saturday\, September 27\, 2025 | 10 AM – 3 PM\, we invite you to join our Gendai Reiki Level 1 class. This is the first step in your Reiki journey\, where you will: \n Learn the history and essence of Reiki\n Receive your first attunement to Reiki energy\n Discover techniques to heal yourself and support loved ones\n Experience the calm and clarity that Reiki brings \nNo prior experience is needed—only an open mind and heart. Whether you are seeking personal healing\, emotional peace\, or a way to deepen your spiritual path\, this class offers a nurturing beginning. \n\n\n\n\nSaturday\, September 27\, 2025\n10 AM – 3 PM\n\n\n\n\nPrice: P17\,500.00 \n  \n     
URL:https://thehealinghouse.com.ph/event/awaken-your-natural-ability-to-heal/
LOCATION:The Healing House @ Palma
CATEGORIES:2025 Event
ATTACH;FMTTYPE=image/jpeg:https://thehealinghouse.com.ph/wp-content/uploads/2025/09/546419851_1480020456536813_9131243340911423773_n.jpg
END:VEVENT
BEGIN:VEVENT
DTSTART;TZID=UTC:20250927T150000
DTEND;TZID=UTC:20250927T183000
DTSTAMP:20260423T135441
CREATED:20250920T150847Z
LAST-MODIFIED:20250929T000428Z
UID:49216-1758985200-1758997800@thehealinghouse.com.ph
SUMMARY:Why We Are Who We Are
DESCRIPTION:Why We Are Who We Are\nA journey through family\, inner child\, and ancestral roots. On September 27\, 3:00–6:30 PM at The Healing House\, three powerful sessions will guide you to understand\, heal\, and release:\n Family dynamics in the Philippine setting with Malou Perez\n Healing the inner child with Edna Chua\n Ancestral and epigenetics clearing with Ana Reyes \nThis is a rare opportunity to explore how our roots shape us\, and how we can transform them into strength. \n\n\n\n\nSaturday\, September 27\, 2025\n3:00–6:30 PM\n\n\n\n\nPrice: P1\,800.00 \n  \n     
URL:https://thehealinghouse.com.ph/event/why-we-are-who-we-are/
LOCATION:The Healing House @ Palma
CATEGORIES:2025 Event
ATTACH;FMTTYPE=image/jpeg:https://thehealinghouse.com.ph/wp-content/uploads/2025/09/546408918_1117658479836225_748287046300534973_n.jpg
END:VEVENT
END:VCALENDAR